Workbook
Name \w: #N/A
Name \X: #N/A
Name _____________________________________________________TEP44: #N/A
Name _____________________________________________________TZ216: #N/A
Name ____________________________________________________TPE1132: #N/A
Name ____________________________________________________TPE1331: #N/A
Name ____________________________________________________TPE1702: #N/A
Name ____________________________________________________TPE1703: #N/A
Name ____________________________________________________TPE1704: #N/A
Name ____________________________________________________TPE1706: #N/A
Name ____________________________________________________TPE1708: #N/A
Name ____________________________________________________TPE1710: #N/A
Name ____________________________________________________TPE1735: #N/A
Name ____________________________________________________TPE1763: #N/A
Name ____________________________________________________TPE1790: #N/A
Name ____________________________________________________TZ214: #N/A
Name ____________________________________________________TZ32510: #N/A
Name ___________________________________________________Cod1: #N/A
Name ___________________________________________________TEP44: #N/A
Name ___________________________________________________TZ216: #N/A
Name __________________________________________________TEP44: #N/A
Name __________________________________________________TPE1132: #N/A
Name __________________________________________________TPE1331: #N/A
Name __________________________________________________TPE1702: #N/A
Name __________________________________________________TPE1703: #N/A
Name __________________________________________________TPE1704: #N/A
Name __________________________________________________TPE1706: #N/A
Name __________________________________________________TPE1708: #N/A
Name __________________________________________________TPE1710: #N/A
Name __________________________________________________TPE1735: #N/A
Name __________________________________________________TPE1763: #N/A
Name __________________________________________________TPE1790: #N/A
Name __________________________________________________TZ214: #N/A
Name __________________________________________________TZ216: #N/A
Name __________________________________________________TZ32510: #N/A
Name _________________________________________________TEP44: #N/A
Name _________________________________________________TPE1132: #N/A
Name _________________________________________________TPE1331: #N/A
Name _________________________________________________TPE1702: #N/A
Name _________________________________________________TPE1703: #N/A
Name _________________________________________________TPE1704: #N/A
Name _________________________________________________TPE1706: #N/A
Name _________________________________________________TPE1708: #N/A
Name _________________________________________________TPE1710: #N/A
Name _________________________________________________TPE1735: #N/A
Name _________________________________________________TPE1763: #N/A
Name _________________________________________________TPE1790: #N/A
Name _________________________________________________TZ214: #N/A
Name _________________________________________________TZ216: #N/A
Name _________________________________________________TZ32510: #N/A
Name ________________________________________________TEP44: #N/A
Name ________________________________________________TPE1132: #N/A
Name ________________________________________________TPE1331: #N/A
Name ________________________________________________TPE1702: #N/A
Name ________________________________________________TPE1703: #N/A
Name ________________________________________________TPE1704: #N/A
Name ________________________________________________TPE1706: #N/A
Name ________________________________________________TPE1708: #N/A
Name ________________________________________________TPE1710: #N/A
Name ________________________________________________TPE1735: #N/A

Sheet INFORMACIÓN
B5: PROPUESTA ECONÓMICA
B7: I. INFORMACIÓN GENERAL
B8: NOMBRE PROVEEDOR
B9: NIT
B10: REGIMEN DE TRIBUTACIÓN
B11: FECHA DE COTIZACIÓN
B12: TIEMPO DE ENTREGA DÍAS CALENDARIO
B13: VIGENCIA DE COTIZACIÓN
B14: MONEDA
B15: GARANTÍAS OFRECIDAS
B17: NOTA: | C17: La propuesta economica debe incluir todos los costos asociados a la prestación del servicio y/o entrega del bien o servicio
B20: II. DATOS DE CONTACTO
B21: NOMBRE PERSONA DE CONTACTO
B22: CORREO
B23: CELULAR / TELÉFONO
B24: NOMBRE REPRESENTANTE LEGAL
B25: FIRMA REPRESENTANTE LEGAL O TITULAR (PERSONA NATURAL)
B27: FIRMA ABONO (PERSONA JURÍDICA)

Sheet INFORMACION GENERAL INTEGRADA
B1: =+C3 -> Reparaciones locativas y adecuaciones menores en las sedes donde COMFENALCO ANTIOQUIA presta sus servicios | C1: #VALUE!
B2: DATOS INICIALES DEL PROYECTO
B3: NOMBRE DEL PROYECTO | C3: Reparaciones locativas y adecuaciones menores en las sedes donde COMFENALCO ANTIOQUIA presta sus servicios
B4: VALOR SALARIO MÍNIMO ESTIMADO AÑO DE VIGENCIA (2026) | D4: 1750905
B5: VALOR AUXILIO DE TRANSPORTE ESTIMADO AÑO DE VIGENCIA (2026) | D5: 249095
B6: DURACIÓN ESTIMADA DEL PROYECTO (MESES) | C6: 2
B7: COSTOS DIRECTOS POR INTERVENCIÓN
B8: DECK PIEDRAS BLANCAS | D8: =+D9 -> 0
B9: =+'PPTO GRAL DECK PB'!C6 -> REPOSICIÓN DECK EXTERIOR | D9: =+'PPTO GRAL DECK PB'!G6 -> 0
B10: ESPACIO DE CALMA PALACÉ | D10: =+D11+D12 -> 0
B11: =+'PPTO GRAL ESP CALM'!C6 -> OBRA CIVIL | D11: =+'PPTO GRAL ESP CALM'!G6 -> 0
B12: =+'PPTO GRAL ESP CALM'!C12 -> OBRA ELECTRICA | D12: =+'PPTO GRAL ESP CALM'!G12 -> 0
B13: AGENCIA DE EMPLEO CAÑASGORDAS | D13: =+D14+D15+D16 -> 0
B14: =+'PPTO GRAL CAÑAS'!C6 -> OBRA BLANCA Y ACABADOS | D14: =+'PPTO GRAL CAÑAS'!G6 -> 0
B15: =+'PPTO GRAL CAÑAS'!C15 -> SISTEMA DE AIRES | D15: =+'PPTO GRAL CAÑAS'!G15 -> 0
B16: =+'PPTO GRAL CAÑAS'!C18 -> COMPONENTE ELECTRICO Y DATOS | D16: =+'PPTO GRAL CAÑAS'!G18 -> 0
B17: VALOR ESTIMADO DE LA INTERVENCIÓN
B18: COSTOS DIRECTOS | D18: =+SUM(D9,D11:D12,D14:D16) -> 0
B19: ADMINISTRACIÓN | D19: =ROUND(+D18*C19,0) -> 0
B20: UTILIDAD | D20: =ROUND(+D18*C20,0) -> 0
B21: IVA SOBRE UTILIDAD | C21: 0.19 | D21: =ROUNDUP((+D20*C21),0) -> 0
B22: POLIZAS
B23: VALOR TOTAL OBRA CIVIL | D23: =SUM(D18:D22) -> 0
B26: =+B8 -> DECK PIEDRAS BLANCAS
B27: COSTO DIRECTO | D27: =+D8 -> 0
B28: ADMINISTRACIÓN | C28: =+D28/D27 -> #DIV/0! | D28: =+D19*0.6 -> 0
B29: UTILIDAD | C29: =+D29/D27 -> #DIV/0! | D29: =+D20*0.6 -> 0
B30: IVA SOBRE UTILIDAD | C30: 0.19 | D30: =ROUND((+D29*C30),0) -> 0
B31: PÓLIZAS | D31: =+D22*0.6 -> 0
B32: VALOR TOTAL OBRA CIVIL | D32: =+SUM(D27:D31) -> 0
B34: =+B10 -> ESPACIO DE CALMA PALACÉ
B35: COSTO DIRECTO | D35: =+D10 -> 0
B36: ADMINISTRACIÓN | C36: =+D36/D35 -> #DIV/0! | D36: =+D19*0.2 -> 0
B37: UTILIDAD | C37: =+D37/D35 -> #DIV/0! | D37: =+D20*0.2 -> 0
B38: IVA SOBRE UTILIDAD | C38: 0.19 | D38: =ROUNDUP(+D37*C38,0) -> 0
B39: PÓLIZAS | D39: =+D22*0.2 -> 0
B40: VALOR TOTAL OBRA CIVIL | D40: =+SUM(D35:D39) -> 0
B42: =+B13 -> AGENCIA DE EMPLEO CAÑASGORDAS
B43: COSTO DIRECTO | D43: =+D13 -> 0
B44: ADMINISTRACIÓN | C44: =+D44/D43 -> #DIV/0! | D44: =+D19*0.2 -> 0
...

Sheet PPTO GRAL DECK PB
B2: REPOSICIÓN DE DECK EXTERIOR - HOTEL PIEDRAS BLANCAS | F2: #VALUE!
B4: Columna1 | C4: Columna2 | D4: Columna3 | E4: Columna4 | F4: Columna5 | G4: Columna6
B5: ÍTEM | C5: DESCRIPCIÓN | D5: UNIDAD | E5: CANTIDAD | F5: V. UNITARIO | G5: VALOR TOTAL
B6: 1.1 | C6: REPOSICIÓN DECK EXTERIOR | G6: =+G7+G8+G9+G10 -> 0
B7: 1,1,1 | C7: RETIRO DE MATERIAL DE PISO EN MADERA PLASTICA TIPO DECK. Incluye el desmonte, demolición o recuperación de tablilla en madera plástica, cargue, limpieza de superficie, empacada de material residual en costales, transporte por medios manuales, acopio y/o botada de escombros y residuos según entes de supervisión, su medida es en proyección horizontal. | D7: m2 | E7: 97 | G7: =+IFERROR(ROUND(F7*E7,0),0) -> 0
B8: 1,1,2 | C8: Reparación, mantenimiento y pintura de ESTRUCTURA METÁLICA TIPO CERCHAS (SUBESTRUCTURA DECK) de cualquier tipo y dimensión. Incluye: ajuste y lubricación de tornillería y bisagras, revisión y reparación de soldaduras, resane con masilla (máx. 20% del área total), suministro y aplicación mediante equipos airless de imprimante epóxico, anticorrosivo de 2-3mils y pintura poliuretano de 3mils de alta resistencia a la intemperie como acabado final, color a definir en campo, todos los EPP necesarios el para trabajo seguro en alturas, mano de obra, transporte de materiales y todos los demás elementos necesarios para su correcta ejecución. | D8: m2 | E8: 97 | G8: =+IFERROR(ROUND(F8*E8,0),0) -> 0
B9: 1,1,3 | C9: Suministro e instalación de PLACAS DE FIBROCEMENTO - SUPERBOARD DE 20mm, fijadas sobre estructura metálica existente mediante tornillería autoperforante anticorrosiva de acuerdo con las recomendaciones del fabricante, incluye, tratamiento de juntas para exteriores compuesto por sellante elastomérico de poliuretano de alta adherencia y resistencia UV, mano de obra, y todos los elementos necesarios para su correcta instalación. | D9: m2 | E9: 97 | G9: =+IFERROR(ROUND(F9*E9,0),0) -> 0
B10: 1,1,4 | C10: Suministro e instalación de PISO CERÁMICO ACABADO TIPO MADERA TIMBER ARD PRO COLOR CAFÉ DE CORONA, formato 23,8x 119,2cm, instalado en sentido horizontal con junta de dilatación de 5mm entre piezas, acabado de alta resistencia al deslizamiento, formato de instalación según juntas del superboard. | D10: m2 | E10: 97 | G10: =+IFERROR(ROUND(F10*E10,0),0) -> 0
E11: COSTOS DIRECTOS | G11: =G6 -> 0

Sheet PPTO GRAL ESP CALM
B2: ESPACIO DE CALMA SEDE PALACÉ | F2: #VALUE!
B3: PRESUPUESTO GENERAL OBRA CIVIL
B5: ÍTEM | C5: DESCRIPCIÓN | D5: UNIDAD | E5: CANTIDAD | F5: V. UNITARIO | G5: VALOR TOTAL
B6: 1 | C6: OBRA CIVIL | G6: =SUM(G7:G11) -> 0
B7: 1.1. | C7: SUMINISTRO, TRANSPORTE Y APLICACIÓN DE PINTURA TIPO 1 BASE DE AGUA EN MUROS (colores por definir) de primera calidad, sobre muros revocados y/o estucados, tres manos o las necesarias hasta obtener una superficie pareja y homogénea. Incluye: suministro, transporte y colocación de materiales, equipos y herramientas, mano de obra, resanes, tapa poros en estuco plástico tipo plastestuco o equivalente, adecuación de la superficie a intervenir hasta obtener una superficie pareja y homogénea y todos los demás elementos necesarios para su correcta ejecución y funcionamiento. | D7: m2 | E7: 6.768 | G7: =+IFERROR(ROUND(F7*E7,0),0) -> 0
B8: 1.2. | C8: Construcción de MURO FALSO CON PLACAS DE PLACA DE YESO RF 5/8" a doble cara, instaladas sobre estructura en perfilería galvanizada compuesta por perfiles tipo Omega calibre 26 cada 0,60 m y elementos de rigidización (parales) según modulación estructural. Incluye dilatación perimetral en perfil tipo Z, fijación con tornillería autorroscante, tratamiento de juntas con cinta y malla, aplicación de masilla, fajas y acabado final con pintura tipo 1 (según diseño). Incluye remates perimetrales, apertura de vanos para luminarias, fijaciones, transporte de materiales, mano de obra, herramientas y todos los elementos necesarios para su correcta instalación y funcionamiento. (espesor muro 8cm) | D8: m2 | E8: 4.88 | G8: =+IFERROR(ROUND(F8*E8,0),0) -> 0
B9: 1.3. | C9: SUMINISTRO, TRANSPORTE E INSTALACIÓN DE LISTONES EN MADERA PLÁSTICA para refuerzo de anclajes para puertas, ventanas y equipos. Incluye todo lo necesario para su correcta instalación. Previa autorización de la interventoría. | D9: ml | E9: 4.8 | G9: =+IFERROR(ROUND(F9*E9,0),0) -> 0
B10: 1.4. | C10: SUMINISTRO E INSTALACIÓN DE FACHADA EN VIDRIO TEMPLADO, acabado con opalizado de seguridad, refuerzo en aluminio natural mate sistema 3890 perfil 1101 con vidrio templado 10mm, canto a canto, modulación según esquema, cambio de pisa vidrios, cambio de empaques, sellos con poliuretano, perfilería y accesorios necesarios para la correcta instalación. incluye adhesivo corporativo por definir. | D10: m2 | E10: 6.96 | G10: =+IFERROR(ROUND(F10*E10,0),0) -> 0
B11: 1.5. | C11: SUMINISTRO E INSTALACIÓN DE PUERTAS EN MADERA ENTAMBORADA COLOR ROVERE 0,80 x 2,00 m, resane de vano, fabricación en madera maciza o aglomerada según especificación, marcos y guardapolvos; herrajes completos (bisagras, cerradura digital y manija); ajuste, nivelación y correcta fijación; mano de obra calificada; transporte, acarreo de materiales, herramientas e insumos necesarios para su correcta instalación y funcionamiento. | D11: m2 | E11: 1 | G11: =+IFERROR(ROUND(F11*E11,0),0) -> 0
B12: 2 | C12: OBRA ELECTRICA | G12: =SUM(G14:G33) -> 0
B13: 2.1 | C13: Salidas electricas
B14: 2.1.1 | C14: Salida tomacorriente doble normal tipo levinton con polo a tierra, instalado en caja 12x12x5, sobrepuesto en muro; incluye, cable 3 No.12 THHN-THWN-LS, tubería EMT 3/4" (ambos 3 metros por salida), caja metálica 12x12x5 y aparato tipo Levitón 125V-15A, conectores auto desforre, marcación y demás elementos para su correcta instalación. | D14: UND | E14: 4 | G14: =+IFERROR(ROUND(F14*E14,0),0) -> 0
B15: 2.1.2 | C15: Salida en caja 12x12x5 sobrepuesto en techo u otras áreas para ILUMINACIÓN;cable 3 No.12 THHN-THWN-LS, tubería EMT 3/4" (ambos 3 metros por salida), caja metálica 12x12x5, prensa estopa, marcación y demás elementos para su correcta instalación. | D15: UND | E15: 2 | G15: =+IFERROR(ROUND(F15*E15,0),0) -> 0
B16: 2.1.3 | C16: Salida tomacorriente doble normal tipo levinton con polo a tierra GFCI, instalado en caja 12x12x5, sobrepuesto en muro; incluye, cable 3 No.12 THHN-THWN-LS, tubería EMT 3/4" (ambos 3 metros por salida), caja metálica 12x12x5 y aparato tipo Levitón 125V-15A, conectores auto desforre, marcación y demás elementos para su correcta instalación. | D16: UND | E16: 1 | G16: =+IFERROR(ROUND(F16*E16,0),0) -> 0
B17: 2.1.4 | C17: Salida interruptor Sencillo tipo levinton para ILUMINACIÓN instalado en caja; incluye, cable 3 x No.12 THHN-THWN-LS LIBRE DE HALOGENOS, tubería EMT 3/4" (ambos 3 metros por cada salida), caja metálica 4x4, aparato tipo Luminex blanco, conectores autodesforre 3m, marcación y demás elementos para su correcta instalación. | D17: UND | E17: 1 | G17: =+IFERROR(ROUND(F17*E17,0),0) -> 0
B18: 2.1.5 | C18: Salida interruptor doble tipo levinton para ILUMINACIÓN instalado en caja; incluye, cable 3 x No.12 THHN-THWN-LS LIBRE DE HALOGENOS, tubería EMT 3/4" (ambos 3 metros por cada salida), caja metálica 4x4, aparato tipo Luminex blanco, conectores autodesforre 3m, marcación y demás elementos para su correcta instalación. | D18: UND | E18: 2 | G18: =+IFERROR(ROUND(F18*E18,0),0) -> 0
B19: 2.2 | C19: Alimentadores y circuitos ramales
B20: 2.2.1 | C20: Suministro, transporte e instalación de circuitos ramales en cable de cobre 3No.12 LSHF AWG; incluye conectores resorte y cinta aislante | D20: ML | E20: 20 | G20: =+IFERROR(ROUND(F20*E20,0),0) -> 0
B21: 2.3 | C21: Canalizaciones
B22: 2.3.1 | C22: Suministro e instalación de tubería eléctrica de EMT de Ø 3/4”. mtsd Incluye: Tendido, uniones, curvas y los accesorios necesarios para su óptimo funcionamiento | D22: ML | E22: 20 | G22: =+IFERROR(ROUND(F22*E22,0),0) -> 0
B23: 2.4 | C23: Iluminación
B24: 2.4.1 | C24: Suministro, transporte e instalación de cable encauchetado 3x12 AWG- ST-C cobre blando. Incluye conectores, marcación y demás accesorios para su correcta instalación y fUncionamiento según RETIE. | D24: ML | E24: 4 | G24: =+IFERROR(ROUND(F24*E24,0),0) -> 0
B25: 2.4.2 | C25: Suministro, transporte e instalación de luminaria emergencia led interior de sobreponer en pared 2w 2x75.3lm. Incluye elementos de fijación | D25: UND | E25: 1 | G25: =+IFERROR(ROUND(F25*E25,0),0) -> 0
B26: 2.4.3 | C26: Suministro , transporte e instalación de PANEL LED DE SOBREPONER REDONDO 18W-CALIDO BORDE INFINITO, incluye todo o necesario para su correcto funcionamiento | D26: UND | E26: 1 | G26: =+IFERROR(ROUND(F26*E26,0),0) -> 0
B27: 2.5 | C27: REDES DE TELECOMUNICACIONES
B28: 2.5.1 | C28: Suministro, transporte e instalación de patch cord cable flexible 4 pares con conectores RJ-45 en ambos extremos, cat 6A de 100 cm; preensamblado en fábrica. | D28: UND | E28: 1 | G28: =+IFERROR(ROUND(F28*E28,0),0) -> 0
B29: 2.5.2 | C29: Suministro, transporte e instalación de patch cord cable flexible 4 pares con conectores RJ-45 en ambos extremos, cat 6A de 200 cm; preensamblado en fábrica. | D29: UND | E29: 1 | G29: =+IFERROR(ROUND(F29*E29,0),0) -> 0
B30: 2.5.3 | C30: Suministro, transporte e instalación de cable UTP Categoría 6A de cuatro pares,23 AWG, LSZH cumpla normas EIA/TIA568B. Incluye plug RJ-45, certificación y resultados en medio impreso y magnético, Marcación y Ficho de Identificación y demás elementos necesarios para su correcta instalación. | D30: ML | E30: 100 | G30: =+IFERROR(ROUND(F30*E30,0),0) -> 0
B31: 2.5.4 | C31: Suministro, transporte e instalación de salida sencilla de datos RJ 45 cat 6A, aplicable a normas TIA 568A/TIA 568B, cumpla standares industriales y estén en el listado UL y además sean marca reconocida en el mercado. incluye el troquel, elementos asociados, marcación con placa en acrílico o térmica y demás elementos necesarios para su correcta instalación. | D31: UND | E31: 1 | G31: =+IFERROR(ROUND(F31*E31,0),0) -> 0
B32: 2.5.5 | C32: Certificación de puntos de datos | D32: UND | E32: 1 | G32: =+IFERROR(ROUND(F32*E32,0),0) -> 0
B33: 2.5.6 | C33: Suministro, transporte e instalación de tubería metálica EMT diámetro 3/4", para AP´S. Incluye adaptadores, Uniones, curvas, grapas doble ala, resanes y demás accesorios necesarios para su correcta instalación. | D33: ML | E33: 70 | G33: =+IFERROR(ROUND(F33*E33,0),0) -> 0
E34: COSTOS DIRECTOS | G34: =G6+G12 -> 0

Sheet PPTO GRAL CAÑAS
B2: MODIFICACIÓN AGENCIA DE EMPLEO CAÑASGORDAS | F2: #VALUE!
B3: PRESUPUESTO GENERAL OBRA CIVIL
B5: ÍTEM | C5: DESCRIPCIÓN | D5: UNIDAD | E5: CANTIDAD | F5: V. UNITARIO | G5: VALOR TOTAL
B6: 1 | C6: OBRA BLANCA Y ACABADOS | G6: =SUM(G7:G14) -> 0
B7: 1.1 | C7: SUMINISTRO, TRANSPORTE Y APLICACIÓN DE PINTURA TIPO 1 BASE DE AGUA EN MUROS (colores por definir) de primera calidad, sobre muros revocados y/o estucados, tres manos o las necesarias hasta obtener una superficie pareja y homogénea. Incluye: Retiro de material publicitario y señalética informativa. Incluye reinstalación de la señalética informativa. Incluye suministro, transporte y colocación de materiales, equipos y herramientas, mano de obra, resanes, tapa poros en estuco plástico tipo plastestuco o equivalente, adecuación de la superficie a intervenir hasta obtener una superficie pareja y homogénea y todos los demás elementos necesarios para su correcta ejecución y funcionamiento. | D7: m2 | E7: 147.294 | G7: =+IFERROR(ROUND(F7*E7,0),0) -> 0
B8: 1.2 | C8: SUMINISTRO Y APLICACIÓN DE PINTURA ACRÍLICA PARA INTERIOR ALTA ASEPSIA (COLORES POR DEFINIR) de primera calidad sobre muros revocados y/o estucados, tres manos o las necesarias hasta obtener una superficie pareja y homogénea. Incluye suministro y transporte de los materiales, resanes, tapa poros en estuco plástico tipo plastestuco o equivalente diluido en agua proporción 1:2, adecuación de la superficie a intervenir hasta obtener una superficie pareja y homogénea, color a definir según aprobación de la interventoría. | D8: m2 | E8: 7.81 | G8: =+IFERROR(ROUND(F8*E8,0),0) -> 0
B9: 1.3 | C9: MANTENIMIENTO DE PUERTAS EN MADERA, incluye pulida de la superficie, limpieza, lubricación y ajuste de bisagras, ajuste o cambio de piezas que lo requieran, aplicación de barniz a poro abierto para exteriores marca Barnex de Pintuco o similar, mano de obra, transporte de materiales y todo lo necesario para su correcta función. | D9: und | E9: 3 | G9: =+IFERROR(ROUND(F9*E9,0),0) -> 0
B10: 1.4 | C10: SUMINISTRO E INSTALACIÓN DE DIVISIONES INTERNAS EN VIDRIO TEMPLADO, incluye cerramiento en vidrio templado 8mm, altura 2,20m, tope laterales, zocalo superior e inferior, estructura y perfilería y entrepaños, así como remate y acabado final. | D10: ml | E10: 1.3 | G10: =+IFERROR(ROUND(F10*E10,0),0) -> 0
B11: 1.5 | C11: Suministro, transporte y colocación de PUERTA DESLIZANTE, EN VIDRIO TEMPLADO DE 8mm , altura 2,20 metros, Ancho 80cm, perfil de soporte en acero inoxidable en la parte inferior y superior según diseño, Incluye tiradera larga en acero inoxidable, sistema de rieles en acero inoxidable y todos los demás elementos necesarios para su correcta instalación y funcionamiento, previa aprobación de la supervisión. | D11: und | E11: 1 | G11: =+IFERROR(ROUND(F11*E11,0),0) -> 0
B12: 1.6 | C12: Suministro e instalación de ESPEJO FLOTADO RETROILUMINADO en baño PMR, ovalado 50x100cm, con marco metálico negro, incluye suministro e instalación de cintas led con difusor de incrustar para acabados de iluminación y demás items necesarios para su puesta en funcionamiento, INCLUYE DESMONTE DE ESPEJO EXISTENTE. | D12: und | E12: 1 | G12: =+IFERROR(ROUND(F12*E12,0),0) -> 0
B13: 1.7 | C13: Construcción de MURO FALSO CON PLACAS DE PLACA DE YESO RF 5/8" a doble cara, instaladas sobre estructura en perfilería galvanizada compuesta por perfiles tipo Omega calibre 26 cada 0,60 m y elementos de rigidización (parales) según modulación estructural. Incluye dilatación perimetral en perfil tipo Z, fijación con tornillería autorroscante, tratamiento de juntas con cinta y malla, aplicación de masilla, fajas y acabado final con pintura tipo 1 (según diseño). Incluye remates perimetrales, apertura de vanos para luminarias, fijaciones, transporte de materiales, mano de obra, herramientas y todos los elementos necesarios para su correcta instalación y funcionamiento. | D13: m2 | E13: 9.425 | G13: =+IFERROR(ROUND(F13*E13,0),0) -> 0
B14: 1.8 | C14: RETIRO Y REINSTALACIÓN DE PUERTA (marco y ala) metálicas, en aluminio, en madera o puerta reja. Incluye el retiro, cargue, transporte, botada de escombros en botaderos oficiales y recuperación de los materiales aprovechables y su transporte hasta la bodega, botada o el sitio que lo indique la interventoría. Ancho variable desde 0,8 a 1,00 m. | D14: und | E14: 1 | G14: =+IFERROR(ROUND(F14*E14,0),0) -> 0
B15: 2 | C15: SISTEMA DE AIRES | G15: =SUM(G16:G17) -> 0
B16: 2.1 | C16: Suministro, transporte e instalacion de SISTEMA DE AIRE ACONDICIONADO, EQUIPO MINISPLIT TIPO ON-OFF de 12000 btu a 220V, Unidad Interior 837 × 308 × 189 - Unidad Exterior 717 × 495 × 230 Incluye soporte de fijacion para las unidades internas y externas y todos los elementos necesarios para su correcta instalacion, contempla tubería revestida para linea de succión, linea de liquido y drenaje (15m) | D16: und | E16: 1 | G16: =+IFERROR(ROUND(F16*E16,0),0) -> 0
B17: 2.2 | C17: Suministro, transporte e instalación de BANDEJA DE DISTRIBUCIÓN de diferentes tuberías para el sistema de aires acondicionados | D17: ml | E17: 6.7 | G17: =+IFERROR(ROUND(F17*E17,0),0) -> 0
B18: 3 | C18: COMPONENTE ELECTRICO Y DATOS | G18: =SUM(G19:G38) -> 0
B19: 3.1 | C19: Salidas electricas | G19: =+IFERROR(ROUND(F19*E19,0),0) -> 0
B20: 3.1.2 | C20: Salida tomacorriente doble normal tipo levinton con polo a tierra, instalado en caja 12x12x5, sobrepuesto en muro; incluye, cable 3 No.12 THHN-THWN-LS, tubería EMT 3/4" (ambos 3 metros por salida), caja metálica 12x12x5 y aparato tipo Levitón 125V-15A, conectores auto desforre, marcación y demás elementos para su correcta instalación. | D20: UND | E20: 6 | G20: =+IFERROR(ROUND(F20*E20,0),0) -> 0
B21: 3.1.3 | C21: Salida tomacorriente doble normal regulado con polo a tierra naranja, instalado en caja 12x12x5, sobrepuesto en muro; incluye, cable 3 No.12 THHN-THWN-LS, tubería EMT 3/4" (ambos 3 metros por salida), caja metálica 12x12x5 y aparato tipo Levitón 125V-15A, conectores auto desforre, marcación y demás elementos para su correcta instalación. | D21: UND | E21: 2 | G21: =+IFERROR(ROUND(F21*E21,0),0) -> 0
B22: 3.1.4 | C22: Salida tomacorriente 220vac con polo a tierra, instalado en caja 12x12x5, sobrepuesto en muro; incluye, cable 3 No.10 THHN-THWN-LS, tubería EMT 3/4" (ambos 3 metros por salida), caja metálica 12x12x5 y aparato tipo Levitón 220V-20A, conectores auto desforre, marcación y demás elementos para su correcta instalación. | D22: UND | E22: 2 | G22: =+IFERROR(ROUND(F22*E22,0),0) -> 0
B23: 3.2 | C23: Canalizaciones
B24: 3,2,1 | C24: Suministro e instalación de tubería eléctrica de EMT de Ø 3/4”. mtsd Incluye: Tendido, uniones, curvas y los accesorios necesarios para su óptimo funcionamiento | D24: ML | E24: 45 | G24: =+IFERROR(ROUND(F24*E24,0),0) -> 0
B25: 3.3 | C25: Tableros multibreakers y protecciones eléctricas
B26: 3,3,1 | C26: Suministro, transporte e instalación de tablero de 8 circuitos bifasico de sobreponer, 208/120 V, lámina de lamina cold rolled calibre 18, pintura en polvo de aplicación electrostática, tipo epoxipoliéster, barraje en cobre electrolítico 99% de pureza, barras de neutro y tierra, para interruptores tipo QUICK-LAG. Incluye puerta bisagrada, chapa con llave y demás accesorios necesarios para su correcta instalación y fUncionamiento. Certificación RETIE y UL 67. | D26: UND | E26: 1 | G26: =+IFERROR(ROUND(F26*E26,0),0) -> 0
B27: 3,3,2 | C27: Suministro, transporte e instalación de breaker enchufable 2x20 A. Icc: 10kA, 220V para A.A. | D27: UND | E27: 2 | G27: =+IFERROR(ROUND(F27*E27,0),0) -> 0
B28: 3.4 | C28: Alimentadores y circuitos ramales | G28: =+IFERROR(ROUND(F28*E28,0),0) -> 0
B29: 3,4,1 | C29: Suministro, transporte e instalación de circuitos ramales en cable de cobre 3No.12 LSHF AWG; incluye conectores resorte y cinta aislante | D29: ML | E29: 50 | G29: =+IFERROR(ROUND(F29*E29,0),0) -> 0
B30: 3.5 | C30: Iluminación
B31: 3,5,1 | C31: Suministro, transporte e instalación de luminaria emergencia led interior de sobreponer en pared 2w 2x75.3lm. Incluye elementos de fijación | D31: UND | E31: 1 | G31: =+IFERROR(ROUND(F31*E31,0),0) -> 0
B32: 3,5,2 | C32: Suministro , transporte e instalación de Cinta neon flex, arquitectónica 110V AC 8w metro calida, calido incluye elementos de fijación. Esta luminaria debe cumplir con el RETILAP y el RETIE y se debe entregar curva fotométrica certificada del fabricante. | D32: ML | E32: 1 | G32: =+IFERROR(ROUND(F32*E32,0),0) -> 0
B33: 3.6 | C33: REDES DE TELECOMUNICACIONES
B34: 3,6,1 | C34: Suministro, transporte e instalación de salida sencilla de datos RJ 45 cat 6A, aplicable a normas TIA 568A/TIA 568B, cumpla standares industriales y estén en el listado UL y además sean marca reconocida en el mercado. incluye el caja metalica 12x5, face plate, elementos asociados, marcación con placa en acrílico o térmica y demás elementos necesarios para su correcta instalación. | D34: UND | E34: 3 | G34: =+IFERROR(ROUND(F34*E34,0),0) -> 0
B35: 3,6,2 | C35: Suministro, transporte e instalación de patch cord cable flexible 4 pares con conectores RJ-45 en ambos extremos, cat 6A de 100 cm; preensamblado en fábrica. | D35: UND | E35: 3 | G35: =+IFERROR(ROUND(F35*E35,0),0) -> 0
B36: 3,6,3 | C36: Suministro, transporte e instalación de patch cord cable flexible 4 pares con conectores RJ-45 en ambos extremos, cat 6A de 200 cm; preensamblado en fábrica. | D36: UND | E36: 3 | G36: =+IFERROR(ROUND(F36*E36,0),0) -> 0
B37: 3,6,4 | C37: Suministro, transporte e instalación de cable UTP Categoría 6A de cuatro pares,23 AWG, LSZH cumpla normas EIA/TIA568B. Incluye plug RJ-45, certificación y resultados en medio impreso y magnético, Marcación y Ficho de Identificación y demás elementos necesarios para su correcta instalación. | D37: ML | E37: 35 | G37: =+IFERROR(ROUND(F37*E37,0),0) -> 0
B38: 3,6,5 | C38: Certificación de puntos de datos | D38: UND | E38: 3 | G38: =+IFERROR(ROUND(F38*E38,0),0) -> 0
E39: COSTOS DIRECTOS | G39: =+G15+G6+G18 -> 0
AM150: =+AM148 -> 0
