Workbook
Name \w: #N/A
Name \X: #N/A
Name _____________________________________________________TEP44: #N/A
Name _____________________________________________________TZ216: #N/A
Name ____________________________________________________TPE1132: #N/A
Name ____________________________________________________TPE1331: #N/A
Name ____________________________________________________TPE1702: #N/A
Name ____________________________________________________TPE1703: #N/A
Name ____________________________________________________TPE1704: #N/A
Name ____________________________________________________TPE1706: #N/A
Name ____________________________________________________TPE1708: #N/A
Name ____________________________________________________TPE1710: #N/A
Name ____________________________________________________TPE1735: #N/A
Name ____________________________________________________TPE1763: #N/A
Name ____________________________________________________TPE1790: #N/A
Name ____________________________________________________TZ214: #N/A
Name ____________________________________________________TZ32510: #N/A
Name ___________________________________________________Cod1: #N/A
Name ___________________________________________________TEP44: #N/A
Name ___________________________________________________TZ216: #N/A
Name __________________________________________________TEP44: #N/A
Name __________________________________________________TPE1132: #N/A
Name __________________________________________________TPE1331: #N/A
Name __________________________________________________TPE1702: #N/A
Name __________________________________________________TPE1703: #N/A
Name __________________________________________________TPE1704: #N/A
Name __________________________________________________TPE1706: #N/A
Name __________________________________________________TPE1708: #N/A
Name __________________________________________________TPE1710: #N/A
Name __________________________________________________TPE1735: #N/A
Name __________________________________________________TPE1763: #N/A
Name __________________________________________________TPE1790: #N/A
Name __________________________________________________TZ214: #N/A
Name __________________________________________________TZ216: #N/A
Name __________________________________________________TZ32510: #N/A
Name _________________________________________________TEP44: #N/A
Name _________________________________________________TPE1132: #N/A
Name _________________________________________________TPE1331: #N/A
Name _________________________________________________TPE1702: #N/A
Name _________________________________________________TPE1703: #N/A
Name _________________________________________________TPE1704: #N/A
Name _________________________________________________TPE1706: #N/A
Name _________________________________________________TPE1708: #N/A
Name _________________________________________________TPE1710: #N/A
Name _________________________________________________TPE1735: #N/A
Name _________________________________________________TPE1763: #N/A
Name _________________________________________________TPE1790: #N/A
Name _________________________________________________TZ214: #N/A
Name _________________________________________________TZ216: #N/A
Name _________________________________________________TZ32510: #N/A
Name ________________________________________________TEP44: #N/A
Name ________________________________________________TPE1132: #N/A
Name ________________________________________________TPE1331: #N/A
Name ________________________________________________TPE1702: #N/A
Name ________________________________________________TPE1703: #N/A
Name ________________________________________________TPE1704: #N/A
Name ________________________________________________TPE1706: #N/A
Name ________________________________________________TPE1708: #N/A
Name ________________________________________________TPE1710: #N/A
Name ________________________________________________TPE1735: #N/A

Sheet INFORMACIÓN GENERAL
B5: PROPUESTA ECONÓMICA
B7: I. INFORMACIÓN GENERAL
B8: NOMBRE PROVEEDOR
B9: NIT
B10: REGIMEN DE TRIBUTACIÓN
B11: FECHA DE COTIZACIÓN
B12: TIEMPO DE ENTREGA DÍAS CALENDARIO
B13: VIGENCIA DE COTIZACIÓN
B14: MONEDA
B15: GARANTÍAS OFRECIDAS
B17: NOTA: | C17: La propuesta economica debe incluir todos los costos asociados a la prestación del servicio y/o entrega del bien o servicio
B20: II. DATOS DE CONTACTO
B21: NOMBRE PERSONA DE CONTACTO
B22: CORREO
B23: CELULAR / TELÉFONO
B24: NOMBRE REPRESENTANTE LEGAL
B25: FIRMA REPRESENTANTE LEGAL O TITULAR (PERSONA NATURAL)
B27: NOMBRE ABONO DE LA PROPUESTA (SI SE REQUIERE)
B29: FIRMA ABONO DE LA PROPUESTA (SI SE REQUIERE)

Sheet PPTO GENERAL
B1: Reparaciones locativas en los Centros de Atención Integral a la primera Infancia (CAII) ubicados en la subregión Suroeste del departamento de Antioquia | C1: #VALUE!
B2: DATOS INICIALES DEL PROYECTO
B4: CONTRATISTA
B5: INTERVENTOR
B6: NOMBRE DEL PROYECTO | C6: =B1 -> Reparaciones locativas en los Centros de Atención Integral a la primera Infancia (CAII) ubicados en la subregión Suroeste del departamento de Antioquia
B7: SUPERVISOR RESPONSABLE COMFENALCO
B8: VALOR SALARIO MÍNIMO AÑO 2026 | C8: 1750905
B9: VALOR AUXILIO DE TRANSPORTE AÑO 2026 | C9: 249095
B10: DURACIÓN ESTIMADA DEL PROYECTO (MESES) | C10: 2
B11: DURACIÓN ESTIMADA DE LA INTERVENTORÍA (MESES) | C11: 0
B12: COSTOS DIRECTOS POR SEDE
B13: ='PPTO GRAL BOLOMBOLO'!C6 -> 1700 - CAII CUNDINA BOLOMBOLO | D13: =+'PPTO GRAL BOLOMBOLO'!G75 -> 0
B14: =+'PPTO GRAL LA PINTADA'!C6 -> 1740 - CAII LA PINTADA | D14: =+'PPTO GRAL LA PINTADA'!G41 -> 0
B15: VALOR ESTIMADO DE LA INTERVENCIÓN
B16: COSTOS DIRECTOS | D16: =SUM(D13:D14) -> 0
B17: ADMINISTRACIÓN | D17: =ROUNDUP(+D16*C17,0) -> 0
B18: UTILIDAD | D18: =ROUNDUP((+D16*C18),0) -> 0
B19: IVA SOBRE UTILIDAD | C19: 0.19 | D19: =ROUNDUP((+D18*C19),0) -> 0
B20: PÓLIZAS
B21: VALOR TOTAL OBRA CIVIL | D21: =SUM(D16:D20) -> 0

Sheet PPTO GRAL BOLOMBOLO
B2: =+'PPTO GENERAL'!B1 -> Reparaciones locativas en los Centros de Atención Integral a la primera Infancia (CAII) ubicados en la subregión Suroeste del departamento de Antioquia | G2: #VALUE!
J3: Incremento 2026
B4: Columna1 | C4: Columna2 | D4: Columna3 | E4: Columna4 | F4: Columna5 | G4: Columna6
B5: ÍTEM | C5: DESCRIPCIÓN | D5: UNIDAD | E5: CANTIDAD | F5: V. UNITARIO | G5: VALOR TOTAL | I5: Precio 2025 | J5: Teorico | K5: Real
B6: 1 | C6: 1700 - CAII CUNDINA BOLOMBOLO | G6: =+G7+G18+G30+G63+G15 -> 0
B7: 1.1 | C7: DEMOLICIONES Y RETIROS | G7: =SUM(G8:G14) -> 0 | J7: 0.09
B8: 1,1,1 | C8: Desmonte y retiro de LUMINARIAS a altura igual o menor a 3m. Incluye: cargue, transporte, recuperación de los materiales aprovechables y su transporte hasta el sitio que lo indique la supervisión de Comfenalco. | D8: und | E8: 8 | G8: =ROUND($E8*$F8,0) -> 0 | I8: 15295.665 | J8: =(I8*(1+$J$7)) -> 16672.275 | K8: =F8/I8 -> 0
B9: 1,1,3 | C9: REGATA EN PISO de cualquier acabado, hasta 60cm de profundidad en cualquier material. Incluye: cortes con pulidora y/o cortadora de piso e hidratación abundante para evitar la dispersión de material particulado, excavación y retiro del entresuelo y disposición final de material sobrante, incluye también el cargue, transporte y disposicion final en botaderos certificados. | D9: ml | E9: 25.6 | G9: =ROUND($E9*$F9,0) -> 0 | I9: 39637.393 | J9: =(I9*(1+$J$7)) -> 43204.758 | K9: =F9/I9 -> 0
B10: 1,1,4 | C10: REGATA EN MURO de cualquier acabado, hasta 40cm de profundidad en cualquier material. Incluye: cortes con pulidora e hidratación abundante para evitar la dispersión de material particulado, excavación y retiro del material del muro y disposición final de material sobrante, incluye también el cargue, transporte y disposicion final en botaderos certificados. | D10: ml | E10: 6 | G10: =ROUND($E10*$F10,0) -> 0 | I10: 35689.989 | J10: =(I10*(1+$J$7)) -> 38902.088 | K10: =F10/I10 -> 0
B11: 1,1,5 | C11: Desmonte y retiro de MALLA ANTI MOSQUITO. Incluye: malla y elementos de fijación, cargue, transporte y botada del material no reutilizable hasta botaderos autorizados, equipos, herramientas, mano de obra y todos los demás elementos necesarios para su correcto desmontaje. | D11: m2 | E11: 2.76 | G11: =ROUND($E11*$F11,0) -> 0 | I11: 16831.166 | J11: =(I11*(1+$J$7)) -> 18345.971 | K11: =F11/I11 -> 0
B12: 1,1,6 | C12: Desmonte y retiro de POLISOMBRA NEGRA, bajo cualquier grado de altura. Incluye: retiro de la malla y su estructura (si es el caso), puertas, del mismo material, dejar superficie limpia, cargue, transporte y disposición final en botaderos certificados, equipos, herramientas, mano de obra y todos los demás elementos necesarios para su correcto desmontaje y retiro. | D12: m2 | E12: 242.64 | G12: =ROUND($E12*$F12,0) -> 0 | I12: 3108 | J12: =(I12*(1+$J$7)) -> 3387.72 | K12: =F12/I12 -> 0
B13: 1,1,7 | C13: Desmonte y retiro de CERRAMIENTO PERIMETRAL (ANTERIORMENTE PISCINA). Incluye: desmonte de cerramiento y elementos de fijación, cargue, transporte y botada del material no reutilizable hasta botaderos autorizados, equipos, herramientas, mano de obra y todos los demás elementos necesarios para su correcto desmontaje. | D13: ml | E13: 51.8 | G13: =ROUND($E13*$F13,0) -> 0
B14: 1,1,8 | C14: DESMONTE PARCIAL DE PARQUE INFANTIL, MATENIMIENTO GENERAL Y POSTERIOR REINSTALACIÓN DEL MISMO, consiste en realizar el desmonte, acopio a sitio autorizado, mantenimiento por medio de la aplicación de inmunizante, pintura, remplazo de fijaciones, pernos y accesorios de instalación y posterior reinstalación del mismo. | D14: und | E14: 1 | G14: =ROUND($E14*$F14,0) -> 0
B15: 1.2 | C15: MORTEROS Y MAMPOSTERÍA. | G15: =SUM(G16:G17) -> 0
B16: 1,2,1 | C16: Suministro y aplicación de TRATAMIENTO PARA HUMEDAD ASCENDENTE EN MUROS PERIMETRALES (h= 1.00m), incluye demolición de pañete y acabados deteriorados, limpieza mecánica de sales y hongos, aplicación de impermeabilizante cementicio flexible bicomponente tipo SikaTop®-107 Seal CO o equivalente, aplicado en mínimo dos capas cruzadas, reposición de pañete impermeable con aditivo hidrófugo, resane, afinado y disposición final de escombros. Incluye mano de obra, herramientas, equipos menores, andamios menores, transporte interno y todos los elementos necesarios para su correcta ejecución. | D16: ml | E16: 101.7 | G16: =ROUND($E16*$F16,0) -> 0
B17: 1,2,2 | C17: SUMINISTRO Y APLICACIÓN DE MORTERO DE NIVELACIÓN SOBRE CESPED, espesor=5cm, hasta dejarlos aptos para la instalación del acabado con (1:4) impermeabilizado con Sika 1 y aditivo en fibra para evitar agrietamientos, incluye preparación de la superficie, formaletería y todos los items necesarios para su correcta instalación. | D17: m2 | E17: 120 | G17: =ROUND($E17*$F17,0) -> 0
B18: 1.3 | C18: ACABADOS | G18: =SUM(G19:G29) -> 0
B19: 1,3,1 | C19: Suministro, transporte y aplicación de PINTURA ACRÍLICA PARA INTERIOR ALTA ASEPSIA EN MUROS (colores por definir) de primera calidad, sobre muros revocados y/o estucados, tres manos o las necesarias hasta obtener una superficie pareja y homogénea. Incluye: suministro, transporte y colocación de materiales, equipos y herramientas, mano de obra, resanes, tapa poros en estuco plástico tipo plastestuco o equivalente, adecuación de la superficie a intervenir hasta obtener una superficie pareja y homogénea y todos los demás elementos necesarios para su correcta ejecución y funcionamiento. | D19: m2 | E19: 80 | G19: =ROUND($E19*$F19,0) -> 0 | I19: 31881.332 | J19: =(I19*(1+$J$7)) -> 34750.652 | K19: =F19/I19 -> 0
B20: 1,3,2 | C20: Suministro, transporte y aplicación de PINTURA ACRÍLICA PARA INTERIOR ALTA ASEPSIA EN CIELOS (colores por definir) de primera calidad, sobre cielos revocados y/o estucados, tres manos o las necesarias hasta obtener una superficie pareja y homogénea. Incluye: suministro, transporte y colocación de materiales, equipos y herramientas, mano de obra, resanes, tapa poros en estuco plástico tipo plastestuco o equivalente, adecuación de la superficie a intervenir hasta obtener una superficie pareja y homogénea y todos los demás elementos necesarios para su correcta ejecución y funcionamiento. | D20: m2 | E20: 21.18 | G20: =ROUND($E20*$F20,0) -> 0 | I20: 33602.017 | J20: =(I20*(1+$J$7)) -> 36626.199 | K20: =F20/I20 -> 0
B21: 1,3,3 | C21: Suministro, transporte y aplicación de PINTURA EPÓXICA EN MUROS TIPO PINTUCO EPOXI-POLIAMIDA o similar (colores por definir) de primera calidad cumpliendo con normas de higiene sobre concreto, asbesto-cemento, madera y/o metal que requieran alto grado de asepsia, buena resistencia química y/o estén expuestos a alta humedad, tres manos o las necesarias hasta obtener una superficie pareja y homogénea. Incluye: suministro, transporte y colocación de la pintura y demás materiales, equipos y herramientas, mano de obra, resanes, tapa poros en estuco plástico, adecuación de la superficie a intervenir hasta obtener una superficie pareja y homogénea y todos los demás elementos necesarios para su correcta ejecución y funcionamiento. | D21: m2 | E21: 275 | G21: =ROUND($E21*$F21,0) -> 0 | I21: 53886.501 | J21: =(I21*(1+$J$7)) -> 58736.286 | K21: =F21/I21 -> 0
B22: 1,3,4 | C22: Aplicación de PINTURA TIPO KORAZA EN MUROS EXTERIORES, de primera calidad sobre muros revocados y/o estucados, tres manos o las necesarias hasta obtener una superficie pareja y homogénea. Incluye suministro (acabado en muro con revoque paleteado) y transporte de los materiales, adecuación de la superficie a intervenir hasta obtener una superficie pareja y homogénea, color a definir según aprobación de la interventoría. | D22: m2 | E22: 197.095 | G22: =ROUND($E22*$F22,0) -> 0
B23: 1,3,5 | C23: Suministro, transporte e instalación de POLISOMBRA AL 80% ANTI UV color negro para instalar sobre cerramiento en malla eslabonada, estructuras metálicas, de madera o similar. Incluye: suministro e instalación de malla y fijaciones tanto en plano horizontal como vertical, herramientas, mano de obra y todos los demás elementos necesarios para su correcta ejecución y funcionamiento. | D23: m2 | E23: 992 | G23: =ROUND($E23*$F23,0) -> 0 | I23: 7604.55 | J23: =(I23*(1+$J$7)) -> 8288.9595 | K23: =F23/I23 -> 0
B24: 1,3,6 | C24: Suministro, transporte e instalación de MALLA ANTI MOSQUITO CON PERFIL EN ALUMINIO, color a definir. Incluye: malla y elementos de fijación, limpieza de la zona al terminar los trabajos, herramientas, mano de obra y todos los demás elementos necesarios para su correcto desmontaje. | D24: m2 | E24: 18.2 | G24: =ROUND($E24*$F24,0) -> 0 | I24: 57663.31 | J24: =(I24*(1+$J$7)) -> 62853.008 | K24: =F24/I24 -> 0
B25: 1,3,7 | C25: Suministro, transporte e instalación de PUERTA BATIENTE EN PERSIANA DE ALUMINIO DE 1,00X2,10m, diseño a definir en obra, color natural mate con cerradura Yale L370 o similar para cuarto de químicos / bodegas / almacenamiento. Incluye: suministro e instalación de puerta y marco, chapa yale, gato hidraúlico, anclajes, fijaciones, visagras, equipos, herramientas, mano de obra y todos los demás elementos necesarios para su correcta instalación y funcionamiento. | D25: und | E25: 1 | G25: =ROUND($E25*$F25,0) -> 0 | I25: 1100109.2 | J25: =(I25*(1+$J$7)) -> 1199119 | K25: =F25/I25 -> 0
B26: 1,3,9 | C26: Suministro, transporte e instalación de CERRAMIENTO EN ESTACONES DE MADERA INMUNIZADA DE Ø 3", de altura de 1m aprox., como medida de protección en escaleras. Incluye: suministro e instalación de los estacones, sistema de anclaje o empotramiento, suministro y aplicación de barniz a poro abierto para exteriores marca Barnex de Pintuco o similar, así como los demás equipos, herramientas, mano de obra, transporte de todos los materiales y demás elementos necesarios para su correcta ejecución y funcionamiento. | D26: ml | E26: 36 | G26: =ROUND($E26*$F26,0) -> 0 | I26: 78295.455 | J26: =(I26*(1+$J$7)) -> 85342.045 | K26: =F26/I26 -> 0
B27: 1,3,10 | C27: Suministro, transporte e instalación de SISTEMA DE GUAYAS Y TENSORES como soporte para cubiertas en polisombra o similar. Incluye: suministro e instalación de las guayas, tensores, anclajes, herramientas, equipos, mano de obra y todos los demás elementos necesarios para su correcta ejecución y funcionamiento. | D27: ml | E27: 420 | G27: =ROUND($E27*$F27,0) -> 0 | I27: 28056 | J27: =(I27*(1+$J$7)) -> 30581.04 | K27: =F27/I27 -> 0
B28: 1,3,11 | C28: Suministro, transporte e instalación de CERRAMIENTO PROVISIONAL EN TELA VERDE h=2,10m, con estacones redondos en madera común o pino ciprés cada 1,5m. Incluye: Cinta delimitadora, polisombras y largueros en madera, equipos, herramientas, mano de obra y todos los demás elementos necesarios para su correcta construcción, Incluye el retiro del mismo una vez sea finalizado su uso. | D28: ml | E28: 100 | G28: =ROUND($E28*$F28,0) -> 0
B29: 1,3,12 | C29: SUMINISTRO, TRANSPORTE E INSTALACIÓN DE SUPERFICIE EN CAUCHO para zona de juegos infantiles existente, sistema conformado por piso en TPV (Termo plastico vulcanizado con caucho), sistema de amortiguación - material antioxidante, alta resistencia mecánica, con sistema de ajuste entrelazado, sistema de drenaje (superficie perforada) variedad de colores. | D29: m2 | E29: 120 | G29: =ROUND($E29*$F29,0) -> 0
B30: 1.4 | C30: RED ELÉCTRICA E ILUMINACIÓN | G30: =SUM(G31:G62) -> 0
B31: 1,4,1 | C31: Suministro, transporte e instalación de PANEL LED REDONDO DE SOBREPONER 1350lm 12w, luz fría. Incluye: suministro e instalación del panel, elementos de fijación, empalme, herramientas, mano de obra y todos los demás accesorios necesarios para su correcta instalación y funcionamiento. | D31: und | E31: 12 | G31: =ROUND($E31*$F31,0) -> 0 | I31: 32780 | J31: =(I31*(1+$J$7)) -> 35730.2 | K31: =F31/I31 -> 0
B32: 1,4,2 | C32: Suministro, transporte e instalación de PANEL LED RECTANGULAR DE 30x120cm DE SOBREPONER 40W, luz neutra. Incluye: suministro e instalación del panel, elementos de fijación, empalme, herramientas, mano de obra y todos los demás accesorios necesarios para su correcta instalación y funcionamiento. | D32: und | E32: 25 | G32: =ROUND($E32*$F32,0) -> 0 | I32: 169830 | J32: =(I32*(1+$J$7)) -> 185114.7 | K32: =F32/I32 -> 0
B33: 1,4,3 | C33: DESCONEXION DE TODOS LOS CIRCUITOS ELÉCTRICOS. Incluye: inabilitacion de tomas, suiches y elementos existenes, desconexion de luminarias y tuberias existentes en mal estado | D33: glb | E33: 1 | G33: =ROUND($E33*$F33,0) -> 0 | I33: 413502.5 | J33: =(I33*(1+$J$7)) -> 450717.73 | K33: =F33/I33 -> 0
B34: 1,4,4 | C34: Suministro , transporte e instalación de LUMINARIA LINEAL DE 1.20m COMPACTA DE SUSPENDER 40W-AC100-240V - Neutra. Incluye: suministro e instalación de la luminaria, perfil de aluminio extruido, acabado con pintura electrostática negra, guayas y demás elementos de fijación, equipos, herramientas, mano de obra y todos los demás elementos necesarios para su correcta instalación y funcionamiento. Esta luminaria debe cumplir con el RETILAP y el RETIE y se debe entregar curva fotométrica certificada del fabricante. | D34: und | E34: 6 | G34: =ROUND($E34*$F34,0) -> 0
B35: 1,4,5 | C35: Suministro , transporte e instalación de LUMINARIA LINEAL Hermetica tipo VCP 40W - Neutra. Incluye: suministro e instalación de la luminaria, perfil de aluminio extruido, acabado con pintura electrostática negra, guayas y demás elementos de fijación, equipos, herramientas, mano de obra y todos los demás elementos necesarios para su correcta instalación y funcionamiento. Esta luminaria debe cumplir con el RETILAP y el RETIE y se debe entregar curva fotométrica certificada del fabricante. | D35: und | E35: 9 | G35: =ROUND($E35*$F35,0) -> 0
B36: 1,4,6 | C36: Suministro, transporte e instalación de luminaria emergencia led interior de sobreponer en pared 2w 2x75.3lm. Incluye elementos de fijación | D36: und | E36: 5 | G36: =ROUND($E36*$F36,0) -> 0
B37: 1,4,7 | C37: Salida en caja 12x12x5 sobrepuesto en techo u otras áreas para ILUMINACIÓN;cable 3 No.12 THHN-THWN-LS, tubería EMT 3/4" (ambos 3 metros por salida), caja metálica 12x12x5, prensa estopa, marcación y demás elementos para su correcta instalación. | D37: und | E37: 57 | G37: =ROUND($E37*$F37,0) -> 0
B38: 1,4,8 | C38: Salida interruptor doble para ILUMINACIÓN tipo levinton instalado en caja; incluye, cable 3 x No.12 THHN-THWN-LS LIBRE DE HALOGENOS, tubería EMT 3/4" (ambos 3 metros por cada salida), caja metálica 4x4, aparato tipo Luminex blanco, conectores autodesforre 3m, marcación y demás elementos para su correcta instalación. | D38: und | E38: 6 | G38: =ROUND($E38*$F38,0) -> 0
B39: 1,4,9 | C39: Salida interruptor sencillo para ILUMINACIÓN tipo levinton instalado en caja; incluye, cable 3 x No.12 THHN-THWN-LS LIBRE DE HALOGENOS, tubería EMT 3/4" (ambos 3 metros por cada salida), caja metálica 4x4, aparato tipo Luminex blanco, conectores autodesforre 3m, marcación y demás elementos para su correcta instalación. | D39: und | E39: 11 | G39: =ROUND($E39*$F39,0) -> 0
B40: 1,4,10 | C40: Suministro, transporte e instalación de cable encauchetado 3x12 AWG- ST-C cobre blando. Incluye conectores, marcación y demás accesorios para su correcta instalación y fUncionamiento según RETIE. | D40: ml | E40: 85.5 | G40: =ROUND($E40*$F40,0) -> 0
B41: 1,4,11 | C41: Salida tomacorriente doble normal tipo levinton con polo a tierra, instalado en caja 12x12x5, sobrepuesto en muro; incluye, cable 3 No.12 THHN-THWN-LS, tubería EMT 3/4" (ambos 3 metros por salida), caja metálica 12x12x5 y aparato tipo Levitón 125V-15A, conectores auto desforre, marcación y demás elementos para su correcta instalación. | D41: und | E41: 24 | G41: =ROUND($E41*$F41,0) -> 0
...

Sheet PPTO GRAL LA PINTADA
B2: =+'PPTO GENERAL'!B1 -> Reparaciones locativas en los Centros de Atención Integral a la primera Infancia (CAII) ubicados en la subregión Suroeste del departamento de Antioquia | G2: #VALUE!
B4: Columna1 | C4: Columna2 | D4: Columna3 | E4: Columna4 | F4: Columna5 | G4: Columna6
B5: ÍTEM | C5: DESCRIPCIÓN | D5: UNIDAD | E5: CANTIDAD | F5: V. UNITARIO | G5: VALOR TOTAL
B6: 2 | C6: 1740 - CAII LA PINTADA | G6: =+G7+G13+G27+G31 -> 0
B7: 2.1 | C7: DEMOLICIONES, RETIROS Y PRELIMINARES | G7: =+SUM(G8:G12) -> 0
B8: 2,1,1 | C8: DESMONTE Y RETIRO DE LUMINARIAS a altura igual o menor a 3m. Incluye: cargue, transporte, recuperación de los materiales aprovechables y su transporte hasta el sitio que lo indique la supervisión de Comfenalco. | D8: und | E8: 6 | G8: =ROUND($E8*$F8,0) -> 0
B9: 2,1,2 | C9: DESMONTE Y RETIRO DE MALLA ANTI MOSQUITO. Incluye: malla y elementos de fijación, cargue, transporte y botada del material no reutilizable hasta botaderos autorizados, equipos, herramientas, mano de obra y todos los demás elementos necesarios para su correcto desmontaje. | D9: m2 | E9: 15 | G9: =ROUND($E9*$F9,0) -> 0
B10: 2,1,3 | C10: DESMONTE Y RETIRO DE TEJA ALVEOLAR o similar, bajo cualquier grado de altura. Incluye: desmonte, cargue, transporte y disposición final hasta botaderos certificados de la teja, equipos, herramientas, mano de obra y todos los demás elementos necesarios para su correcta ejecución. | D10: m2 | E10: 18 | G10: =ROUND($E10*$F10,0) -> 0
B11: 2,1,4 | C11: DESMONTE Y RETIRO DE CUBIERTA EN TEJA DE BARRO. Incluye: desmonte, cargue, transporte y disposición final en botaderos autorizados del material sobrante, así como incluye los equipos, herramientas, mano de obra y todos los elementos necesarios para su correcto desmontaje y retiro. | D11: m2 | E11: 15 | G11: =ROUND($E11*$F11,0) -> 0
B12: 2,1,5 | C12: DEMOLICIÓN Y RETIRO DE ENCHAPES SOBRE PARED (baldosín, cerámica, porcelanato, piedra natural). Incluye: retiro de pegas, morteros, biseles en madera y/o cerámica, dejar la superficie lisa y limpia. Incluye: demolición del mortero de nivelación, actividad a realizar de forma manual y/o con taladro eléctrico, retiro, cargue, transporte y disposición final en botaderos autorizados. | D12: m2 | E12: 6 | G12: =ROUND($E12*$F12,0) -> 0
B13: 2.2 | C13: ACABADOS | G13: =+SUM(G14:G26) -> 0
B14: 2,2,1 | C14: Suministro, transporte y aplicación de PINTURA ACRÍLICA PARA INTERIOR ALTA ASEPSIA EN MUROS (colores por definir) de primera calidad, sobre muros revocados y/o estucados, tres manos o las necesarias hasta obtener una superficie pareja y homogénea. Incluye: suministro, transporte y colocación de materiales, equipos y herramientas, mano de obra, resanes, tapa poros en estuco plástico tipo plastestuco o equivalente, adecuación de la superficie a intervenir hasta obtener una superficie pareja y homogénea y todos los demás elementos necesarios para su correcta ejecución y funcionamiento. | D14: m2 | E14: 861.3 | G14: =ROUND($E14*$F14,0) -> 0
B15: 2,2,2 | C15: Suministro, transporte y aplicación de PINTURA ACRÍLICA PARA INTERIOR ALTA ASEPSIA EN CIELOS (colores por definir) de primera calidad, sobre cielos revocados y/o estucados, tres manos o las necesarias hasta obtener una superficie pareja y homogénea. Incluye: suministro, transporte y colocación de materiales, equipos y herramientas, mano de obra, resanes, tapa poros en estuco plástico tipo plastestuco o equivalente, adecuación de la superficie a intervenir hasta obtener una superficie pareja y homogénea y todos los demás elementos necesarios para su correcta ejecución y funcionamiento. | D15: m2 | E15: 147.87 | G15: =ROUND($E15*$F15,0) -> 0
B16: 2,2,3 | C16: Suministro, transporte y aplicación de PINTURA EPÓXICA EN MUROS TIPO PINTUCO EPOXI-POLIAMIDA o similar (colores por definir) de primera calidad cumpliendo con normas de higiene sobre concreto, asbesto-cemento, madera y/o metal que requieran alto grado de asepsia, buena resistencia química y/o estén expuestos a alta humedad, tres manos o las necesarias hasta obtener una superficie pareja y homogénea. Incluye: suministro, transporte y colocación de la pintura y demás materiales, equipos y herramientas, mano de obra, resanes, tapa poros en estuco plástico, adecuación de la superficie a intervenir hasta obtener una superficie pareja y homogénea y todos los demás elementos necesarios para su correcta ejecución y funcionamiento. | D16: m2 | E16: 42 | G16: =ROUND($E16*$F16,0) -> 0
B17: 2,2,4 | C17: Suministro, transporte y aplicación de PINTURA PARA EXTERIORES TIPO KORAZA o similar, desarrollo de la actividad a cualquier altura, color a definir según aprobación de la supervisión. Incluye: limpieza de la superficie, resane y reparación con estuco, suministro y aplicación de la pintura (tres manos o las necesarias para su correcta apariencia y estética), materiales, equipos, herramientas, mano de obra y todos los demás elementos necesarios para su correcta aplicación y funcionamiento. | D17: m2 | E17: 115.6 | G17: =ROUND($E17*$F17,0) -> 0
B18: 2,2,5 | C18: Suministro, transporte y aplicación de PINTURA ANTICORROSIVA tipo Corrotec de pintuco o similar para ruanas, canoas y caminaderos. Incluye: limpieza y retiro del oxido, suministro y aplicación de la pintura anticorrosiva, materiales, equipos, herramientas, mano de obra y todos los demás elementos necesarios para su correcta aplicación y funcionamiento. | D18: m2 | E18: 22 | G18: =ROUND($E18*$F18,0) -> 0
B19: 2,2,6 | C19: Suministro, transporte e instalación de CUBIERTA EN POLICARBONATO ALVEOLAR DE 8mm, de alta resistencia, protección UV. Incluye: suministro e instalación de lámina policarbonato alveolar 8mm, tornillería y arandelas EPDM, anclajes, perfiles, cinta de aluminio microperforada, sellante silicona UV, tapajuntas, herramientas, equipos, mano de obra y todos los demás elementos necesarios para su correcta instalación y funcionamiento. | D19: m2 | E19: 18 | G19: =ROUND($E19*$F19,0) -> 0
B20: 2,2,7 | C20: Suministro, transporte e instalación de MALLA ANTI MOSQUITO CON PERFIL EN ALUMINIO, color a definir. Incluye: malla y elementos de fijación, limpieza de la zona al terminar los trabajos, herramientas, mano de obra y todos los demás elementos necesarios para su correcto desmontaje. | D20: m2 | E20: 15 | G20: =ROUND($E20*$F20,0) -> 0
B21: 2,2,8 | C21: Suministro, transporte e impermeabilización de SUPERFICIES CON ADITIVO TIPO IGOL DENSO PLUS (JARDINERAS) o similar. Incluye: suministro e instalación del igol denso a dos manos con dosificación de 1kg/m2 cada mano, se debe imprimar previamente la superficie con igol imprimante o equivalente (una mano con una dosificación de 200 gr/m2), así mismo incluye equipos, herramientas, mano de obra y todos los demás elementos necesarios para su correcta aplicación. | D21: m2 | E21: 18 | G21: =ROUND($E21*$F21,0) -> 0
B22: 2,2,9 | C22: Suministro y aplicación de TRATAMIENTO PARA HUMEDAD ASCENDENTE EN MUROS PERIMETRALES (h= 1.00m), incluye demolición de pañete y acabados deteriorados, limpieza mecánica de sales y hongos, aplicación de impermeabilizante cementicio flexible bicomponente tipo SikaTop®-107 Seal CO o equivalente, aplicado en mínimo dos capas cruzadas, reposición de pañete impermeable con aditivo hidrófugo, resane, afinado y disposición final de escombros. Incluye mano de obra, herramientas, equipos menores, andamios menores, transporte interno y todos los elementos necesarios para su correcta ejecución. | D22: ml | E22: 20.42 | G22: =ROUND($E22*$F22,0) -> 0
B23: 2,2,10 | C23: Suministro, transporte y construcción de CUBIERTA EN TEJA DE BARRO. Incluye: teja de barro, alfardas 2"x5" en abarco, larguero 2"x4" (solera) en abarco anclada a viga de amarre con varilla cada 1.5m, tablilla en madera inmunizada al vacío presión en pino pátula machimbrada, impermeabilización en frío con tela asfáltica tipo permofit o equivalente, mortero de pega 1:5 para cada teja, acabado tipo IMPRA o equivalente, para aplicarse sobre tablilla, alfardas y carguera (aplicación las manos que sean necesarias para un tono óptimo), herramientas, equipos, mano de obra y todos los demás elementos necesarios para su correcta construcción y funcionamiento. Medido a lo largo de la pendiente. No incluye estructura ni cargueras. | D23: m2 | E23: 15 | G23: =ROUND($E23*$F23,0) -> 0
B24: 2,2,11 | C24: Suministro, transporte e instalación de CERRAMIENTO EN MALLA ESLABONADA de 4mm y espaciamiento de 2" con soportes en tubo circular galvanizado de 2" a cada metro. Incluye: suministro e instalación de la malla eslabonada y soportes metálicos, anclajes o empalmes del cerramiento, suministro y aplicación de pintura esmalte (2 manos lo las necesarios para garantizar una superficie homogénea y pareja), equipos, herramientas, mano de obra y todos los demás elementos necesarios para su correcta instalación y funcionamiento. | D24: m2 | E24: 33 | G24: =ROUND($E24*$F24,0) -> 0
B25: 2,2,12 | C25: Suministro, transporte e instalación de CERRAMIENTO PROVISIONAL EN TELA VERDE h=2,10m, con estacones redondos en madera común o pino ciprés cada 1,5m. Incluye: Cinta delimitadora, polisombras y largueros en madera, equipos, herramientas, mano de obra y todos los demás elementos necesarios para su correcta construcción, incluye el desmonte de la misma una vez concluido su uso. | D25: ml | E25: 40 | G25: =ROUND($E25*$F25,0) -> 0
B26: 2,2,13 | C26: Suministro, transporte e instalación de ENCHAPE CERÁMICO EN PARED TIPO PARED CERÁMICA EGEO BLANCO 20.5x20.5 Cm, O SIMILAR, estampillado sobre mortero. Incluye: suministro e instalación del enchape, pegacor tipo flex de corona o similar, varilla de dilatación en PVC, lechada color blanco tipo concolor acqua o similar, destroncada, emboquillada, pulida, materiales, equipos, herramientas, mano de obra y todos los demás elementos necesarios para su correcta instalación y funcionamiento. | D26: m2 | E26: 4.8 | G26: =ROUND($E26*$F26,0) -> 0
B27: 2.3 | C27: RED ELÉCTRICA E ILUMINACIÓN | G27: =+SUM(G28:G30) -> 0
B28: 2,3,1 | C28: Suministro, transporte e instalación de PANEL LED REDONDO DE SOBREPONER 1350lm 18w, luz fría. Incluye: suministro e instalación del panel, elementos de fijación, empalme, herramientas, mano de obra y todos los demás accesorios necesarios para su correcta instalación y funcionamiento. | D28: und | E28: 4 | G28: =ROUND($E28*$F28,0) -> 0
B29: 2,3,2 | C29: Suministro, transporte e instalación de PANEL LED RECTANGULAR DE 30x120cm DE SOBREPONER 40W, luz neutra. Incluye: suministro e instalación del panel, elementos de fijación, empalme, herramientas, mano de obra y todos los demás accesorios necesarios para su correcta instalación y funcionamiento. | D29: und | E29: 2 | G29: =ROUND($E29*$F29,0) -> 0
B30: 2,3,3 | C30: Suministro, transporte e instalación de APARATO PARA TOMACORRIENTE DOBLE NORMAL tipo Levitón 125V-15A color blanco, conectores auto desforre, marcación, herramientas, equipos, mano de obra y todos los demás elementos necesarios para su correcta instalación. | D30: und | E30: 2 | G30: =ROUND($E30*$F30,0) -> 0
B31: 2.4 | C31: MANTENIMIENTOS | G31: =+SUM(G32:G40) -> 0
B32: 2,4,1 | C32: Mantenimiento de APARATOS SANITARIOS, ORINALES Y/O LAVAMANOS. Incluye: destaqueada de tubería con máquina, cambio de accesorios, materiales, equipos, herramientas, mano de obra y todos los demás elementos necesarios para su correcta ejecución. | D32: und | E32: 6 | G32: =ROUND($E32*$F32,0) -> 0
B33: 2,4,2 | C33: Mantenimiento de CUBIERTAS LIVIANAS (teja metálica, teja policarbonato, cubierta liviana o similares). Incluye: limpieza y reacomodación de las tejas existentes, ajuste de las amarraderas y acopio de residuos en sitios autorizados, mano de obra, transporte de materiales, equipos, herramientas y todos los demás elementos necesarios para su correcto mantenimiento. | D33: m2 | E33: 533.59557 | G33: =ROUND($E33*$F33,0) -> 0
B34: 2,4,3 | C34: Mantenimiento de CUBIERTA EN TEJA DE BARRO. Incluye: reacomodación y limpieza de las tejas existentes, ajuste de amarraderas, cambio de piezas en mal estado por nuevas de la misma especificación, acopio de residuos en sitios autorizados, mano de obra, transporte de materiales, equipos, herramientas y todos los demás elementos necesarios para su correcto mantenimiento. | D34: m2 | E34: 748 | G34: =ROUND($E34*$F34,0) -> 0
B35: 2,4,4 | C35: Mantenimiento de CANOAS Y BAJANTES en cualquier tipo de cubierta y a cualquier grado de altura. Incluye: limpieza y ajuste de todos y cada uno de sus elementos que lo componen, mano de obra, materiales, equipos, herramientas y todos los demás elementos necesarios para su correcta limpieza y mantenimiento. | D35: ml | E35: 176 | G35: =ROUND($E35*$F35,0) -> 0
B36: 2,4,5 | C36: Mantenimiento de VENTANAS Y/O VENTANALES METÁLICOS. Incluye: ajuste de tornillería, revisión y reparación de soldaduras, lubricación y ajuste de bisagras, resane con masilla en las zonas donde lo requiera, aplicación de pintura 3 en 1 marca pintulux o similar, equipos, herramientas, mano de obra y todos los demás elementos necesarios para su correcto mantenimiento y funcionamiento. No incluye pintura. | D36: m2 | E36: 140.8 | G36: =ROUND($E36*$F36,0) -> 0
B37: 2,4,6 | C37: Mantenimiento de PUERTAS Y/O PORTONES METÁLICOS. Incluye: ajuste de tornillería, revisión y reparación de soldaduras, lubricación y ajuste de bisagras, resane con masilla en las zonas donde lo requiera, aplicación de pintura 3 en 1 marca pintulux o similar, revisión, lubricación y reparación de cerradura, equipos, herramientas, mano de obra y todos los demás elementos necesarios para su correcto mantenimiento y funcionamiento. No incluye pintura. | D37: m2 | E37: 17.6 | G37: =ROUND($E37*$F37,0) -> 0
B38: 2,4,7 | C38: Mantenimiento de PERCHERO DE PARED. Incluye: cambio de cancamos, resanes con masilla para madera, pulida, suminisrto y aplicación de barniz a poro abierto para exteriores marca Barnex de Pintuco o similar, mano de obra, transporte de materiales y todos los demás elementos necesarios para su correcta ejecución. | D38: ml | E38: 14.8 | G38: =ROUND($E38*$F38,0) -> 0
B39: 2,4,8 | C39: REPOSICIÓN DE GRIFERÍA EXISTENTE EN WC NIÑOS, incluye, desmonte de grifería actual, suministro e instalación de Grifería Ultra Ahorradora Fontana de pared Grival (o similar), emboquillado con silicona antihongos y todos los demás elementos necesarios para su correcta instalación y funcionamiento. | D39: und | E39: 8 | G39: =ROUND($E39*$F39,0) -> 0
B40: 2,4,9 | C40: SUMINISTRO, TRANSPORTE E INSTALACIÓN DE ESPEJO DE SEGURIDAD PARA BAÑO INFANTIL en policarbonato espejo o vidrio laminado de seguridad de 6 mm, con bordes pulidos y esquinas redondeadas, fijación mediante adhesivo estructural y anclajes mecánicos ocultos, incluye perfilería de remate, nivelación, instalación, limpieza final, mano de obra, transporte, equipos y demás elementos necesarios para su correcta instalación y funcionamiento, dimensiones de muro de zona de espejos 4.0m x 1.0m | D40: m2 | E40: 4 | G40: =ROUND($E40*$F40,0) -> 0
E41: COSTOS DIRECTOS | G41: =+G6 -> 0
C42: Huerta revisar con proyectos | E42: =+#REF! -> #REF! | F42: ADMINISTRACIÓN | G42: =$G$41*E42 -> #REF!
...
